BEGIN:VCALENDAR
VERSION:2.0
PRODID:icalendar-ruby
CALSCALE:GREGORIAN
METHOD:PUBLISH
BEGIN:VEVENT
DTSTAMP:20260424T051704Z
UID:d234d10e-56d4-4586-8e8c-3dfe05098019
DTSTART:20210117T100000
DTEND:20210117T160000
DESCRIPTION:<h2>NIROX's Open Day // Sunday 17 January</h2><p>NIROX's Open D
 ays are back and we are now open both Saturday's and Sunday's each week\, 
 from 10:00-16:00. You may stay in the park until 17:00\, but you will not 
 be able to enter the park after 16:00.</p><p><br></p><p>You are invited to
  walk the park and experience the NIROX sculpture collection of works by d
 iverse artists from around the world\, experience the new restaurant 'And 
 then there was Fire...'\, and the covered exhibition space called the Cove
 red Space.</p><p>__________</p><p><br></p><p><strong>'And then there was F
 ire...'</strong></p><p>The restaurant has limited tables and bookings are 
 highly recommended.</p><p><a href="https://www.andthentherewasfire.com/" t
 arget="_blank" style="color: rgb(118\, 79\, 219)\;">Book your table + see 
 menu here.</a></p><p>During lockdown NIROX has upgraded its restaurant fac
 ilities extensively. Bernado and Manuela\, co-founders of CHE Argentinian 
 Grill\, head the new restaurant 'And Then There Was FIRE...'\, centered ar
 ound a generous <strong><em>wood-fired grill</em></strong><em> </em>for lu
 nch\;</p><p>with more casual all-day fare from the adjoining <strong><em>T
 apas Café</em></strong><em> </em>and</p><p>raw-food <strong><em>Earth Tab
 le.</em></strong><em> </em></p><p>___________</p><p><br></p><p><strong>Tic
 kets:</strong></p><p>R120 per person</p><p><br></p><p>_____________</p><p>
 <br></p><p><span style="color: rgb(0\, 0\, 0)\;">NIROX is a cashless venue
 . All transactions via credit card machines\, Zapper and/or Snapscan.</spa
 n></p><p><span style="color: rgb(0\, 0\, 0)\;">﻿No food\, drinks\, pets\
 , gazebos\, umbrellas\, bicycles or sporting equipment may be brought into
  the park.</span></p><p><span style="color: rgb(0\, 0\, 0)\;">All COVID pr
 ecautionary measures will be taken. No entry without a mask. Social distan
 cing to be observed.</span></p><p>______________</p><p><br></p><p><strong 
 style="background-color: rgb(255\, 255\, 255)\; color: rgb(0\, 0\, 0)\;">D
 isclaimer</strong></p><p><span style="background-color: rgb(255\, 255\, 25
 5)\; color: rgb(0\, 0\, 0)\;">Entry and use of the facilities is entirely 
 at your own risk. NIROX has no responsibility for injury or loss of any ki
 nd\, howsoever arising.</span></p><p><span style="color: rgb(0\, 0\, 0)\;"
 >Children are their parents responsibility. They must be under adult super
 vision at all times and respect the performance and experience of other pa
 trons during concert. Sculptures are not to be handles or played upon. </s
 pan></p><p><span style="color: rgb(0\, 0\, 0)\;">The landscape is precious
 \, treat it as such. </span></p><p><span style="color: rgb(0\, 0\, 0)\; ba
 ckground-color: transparent\;">NIROX is an outdoor venue\, subject to the 
 weather. While every care is taken to ensure an enjoyable experience\, a d
 ecision will be taken in the event of inclement weather on how to proceed.
  No refunds.</span></p><p><span style="color: rgb(0\, 0\, 0)\; background-
 color: transparent\;">Entry to the park constitutes agreement that images 
 of visitors may be captured and published on social and other media by oth
 er visitors\; and by NIROX</span></p><p>The event will comply with current
  COVID legislations and best practice. If these change\, NIROX is not resp
 onsible for curtailment or cancellation of this event.</p>
LOCATION:24 Kromdraai Rd\, Kromdraai\, Krugersdorp\, Gauteng\, 1739
SUMMARY:17 January at Nirox 
URL;VALUE=URI:https://nirox.howler.co.za/openday1701
END:VEVENT
END:VCALENDAR
